BEGIN:VCALENDAR
VERSION:2.0
PRODID:-//Disc Golf Olsztyn - ECPv6.15.17//NONSGML v1.0//EN
CALSCALE:GREGORIAN
METHOD:PUBLISH
X-WR-CALNAME:Disc Golf Olsztyn
X-ORIGINAL-URL:https://discgolf.olsztyn.pl
X-WR-CALDESC:Wydarzenia dla Disc Golf Olsztyn
REFRESH-INTERVAL;VALUE=DURATION:PT1H
X-Robots-Tag:noindex
X-PUBLISHED-TTL:PT1H
BEGIN:VTIMEZONE
TZID:Europe/Warsaw
BEGIN:DAYLIGHT
TZOFFSETFROM:+0100
TZOFFSETTO:+0200
TZNAME:CEST
DTSTART:20250330T010000
END:DAYLIGHT
BEGIN:STANDARD
TZOFFSETFROM:+0200
TZOFFSETTO:+0100
TZNAME:CET
DTSTART:20251026T010000
END:STANDARD
BEGIN:DAYLIGHT
TZOFFSETFROM:+0100
TZOFFSETTO:+0200
TZNAME:CEST
DTSTART:20260329T010000
END:DAYLIGHT
BEGIN:STANDARD
TZOFFSETFROM:+0200
TZOFFSETTO:+0100
TZNAME:CET
DTSTART:20261025T010000
END:STANDARD
BEGIN:DAYLIGHT
TZOFFSETFROM:+0100
TZOFFSETTO:+0200
TZNAME:CEST
DTSTART:20270328T010000
END:DAYLIGHT
BEGIN:STANDARD
TZOFFSETFROM:+0200
TZOFFSETTO:+0100
TZNAME:CET
DTSTART:20271031T010000
END:STANDARD
END:VTIMEZONE
BEGIN:VEVENT
DTSTART;TZID=Europe/Warsaw:20260307T093000
DTEND;TZID=Europe/Warsaw:20260307T123000
DTSTAMP:20260421T125828
CREATED:20260306T193059Z
LAST-MODIFIED:20260306T202205Z
UID:919-1772875800-1772886600@discgolf.olsztyn.pl
SUMMARY:Olsztyńskie Spotkania Disc Golfowe - Runda 8
DESCRIPTION:Elastyczna liga zimowa\, która z założenia ma łączyć nowych graczy\, juniorów oraz graczy zaawansowanych bez zbędnej presji na wyniki. Spotkania są darmowe. Na koniec ligi zostanie ogłoszony wielki finał\, gdzie już pojawią się konkrente nagrody. Pod uwagę brane będą wyniki z rund oraz punkty za frekwencję i obecność na każdym spotkaniu. \nDywizje: \nJUNIOR – osoby do 18 roku życia \nSEKCJA – gracze zaawansowani oraz członkowie klubu DGO \nNEW – nowe osoby które dopiero zaczynają przygodę z Disc Golfem \n  \nRejestracja: \nMożna rejestrować się w każdej chwili (nawet w dniu zawodów do momentu rozpoczęcia rundy). Jeśli przyprowadzisz nową osobę (na co bardzo liczymy)\, będzie zapisana do rundy na miejscu. Nie musi mieć konta na Udisc ! \nZadanie publiczne jest współfinansowane ze środków otrzymanych z budżetu Miasta Olsztyna. \n\n\n 
URL:https://discgolf.olsztyn.pl/event/olsztynskie-spotkania-disc-golfowe-runda-8/
LOCATION:Kortowo\, Kurta Obitza 2\, Olsztyn\, Poland
CATEGORIES:Liga zimowa
ATTACH;FMTTYPE=image/png:https://discgolf.olsztyn.pl/wp-content/uploads/2026/03/spotkania-logo.png
END:VEVENT
BEGIN:VEVENT
DTSTART;TZID=Europe/Warsaw:20260314T093000
DTEND;TZID=Europe/Warsaw:20260314T123000
DTSTAMP:20260421T125828
CREATED:20260306T193418Z
LAST-MODIFIED:20260306T202054Z
UID:922-1773480600-1773491400@discgolf.olsztyn.pl
SUMMARY:Olsztyńskie Spotkania Disc Golfowe – Runda 9
DESCRIPTION:Olsztyńskie Spotkania Disc Golfowe \nElastyczna liga zimowa\, która z założenia ma łączyć nowych graczy\, juniorów oraz graczy zaawansowanych bez zbędnej presji na wyniki. Spotkania są darmowe. Na koniec ligi zostanie ogłoszony wielki finał\, gdzie już pojawią się konkrente nagrody. Pod uwagę brane będą wyniki z rund oraz punkty za frekwencję i obecność na każdym spotkaniu. \nDywizje: \nJUNIOR – osoby do 18 roku życia \nSEKCJA – gracze zaawansowani oraz członkowie klubu DGO \nNEW – nowe osoby które dopiero zaczynają przygodę z Disc Golfem \n  \nRejestracja: \nMożna rejestrować się w każdej chwili (nawet w dniu zawodów do momentu rozpoczęcia rundy). Jeśli przyprowadzisz nową osobę (na co bardzo liczymy)\, będzie zapisana do rundy na miejscu. Nie musi mieć konta na Udisc ! \nZadanie publiczne jest współfinansowane ze środków otrzymanych z budżetu Miasta Olsztyna. \n\n\n 
URL:https://discgolf.olsztyn.pl/event/olsztynskie-spotkania-disc-golfowe-runda-9/
CATEGORIES:Liga zimowa
ATTACH;FMTTYPE=image/png:https://discgolf.olsztyn.pl/wp-content/uploads/2026/03/spotkania-logo.png
END:VEVENT
BEGIN:VEVENT
DTSTART;TZID=Europe/Warsaw:20260321T093000
DTEND;TZID=Europe/Warsaw:20260321T123000
DTSTAMP:20260421T125828
CREATED:20260306T193912Z
LAST-MODIFIED:20260306T202046Z
UID:927-1774085400-1774096200@discgolf.olsztyn.pl
SUMMARY:Olsztyńskie Spotkania Disc Golfowe – Runda 10
DESCRIPTION:Olsztyńskie Spotkania Disc Golfowe \nElastyczna liga zimowa\, która z założenia ma łączyć nowych graczy\, juniorów oraz graczy zaawansowanych bez zbędnej presji na wyniki. Spotkania są darmowe. Na koniec ligi zostanie ogłoszony wielki finał\, gdzie już pojawią się konkrente nagrody. Pod uwagę brane będą wyniki z rund oraz punkty za frekwencję i obecność na każdym spotkaniu. \nDywizje: \nJUNIOR – osoby do 18 roku życia \nSEKCJA – gracze zaawansowani oraz członkowie klubu DGO \nNEW – nowe osoby które dopiero zaczynają przygodę z Disc Golfem \n  \nRejestracja: \nMożna rejestrować się w każdej chwili (nawet w dniu zawodów do momentu rozpoczęcia rundy). Jeśli przyprowadzisz nową osobę (na co bardzo liczymy)\, będzie zapisana do rundy na miejscu. Nie musi mieć konta na Udisc ! \nZadanie publiczne jest współfinansowane ze środków otrzymanych z budżetu Miasta Olsztyna. \n\n\n 
URL:https://discgolf.olsztyn.pl/event/olsztynskie-spotkania-disc-golfowe-runda-10/
LOCATION:Kortowo\, Kurta Obitza 2\, Olsztyn\, Poland
CATEGORIES:Liga zimowa
ATTACH;FMTTYPE=image/png:https://discgolf.olsztyn.pl/wp-content/uploads/2026/03/spotkania-logo.png
END:VEVENT
END:VCALENDAR